BEGIN:VCALENDAR
VERSION:2.0
PRODID:-//DJ Mix and Go | Booking Beats &amp; Dream Destinations - ECPv6.15.20//NONSGML v1.0//EN
CALSCALE:GREGORIAN
METHOD:PUBLISH
X-WR-CALNAME:DJ Mix and Go | Booking Beats &amp; Dream Destinations
X-ORIGINAL-URL:https://djmixandgo.com
X-WR-CALDESC:Events for DJ Mix and Go | Booking Beats &amp; Dream Destinations
REFRESH-INTERVAL;VALUE=DURATION:PT1H
X-Robots-Tag:noindex
X-PUBLISHED-TTL:PT1H
BEGIN:VTIMEZONE
TZID:America/New_York
BEGIN:DAYLIGHT
TZOFFSETFROM:-0500
TZOFFSETTO:-0400
TZNAME:EDT
DTSTART:20230312T070000
END:DAYLIGHT
BEGIN:STANDARD
TZOFFSETFROM:-0400
TZOFFSETTO:-0500
TZNAME:EST
DTSTART:20231105T060000
END:STANDARD
BEGIN:DAYLIGHT
TZOFFSETFROM:-0500
TZOFFSETTO:-0400
TZNAME:EDT
DTSTART:20240310T070000
END:DAYLIGHT
BEGIN:STANDARD
TZOFFSETFROM:-0400
TZOFFSETTO:-0500
TZNAME:EST
DTSTART:20241103T060000
END:STANDARD
BEGIN:DAYLIGHT
TZOFFSETFROM:-0500
TZOFFSETTO:-0400
TZNAME:EDT
DTSTART:20250309T070000
END:DAYLIGHT
BEGIN:STANDARD
TZOFFSETFROM:-0400
TZOFFSETTO:-0500
TZNAME:EST
DTSTART:20251102T060000
END:STANDARD
BEGIN:DAYLIGHT
TZOFFSETFROM:-0500
TZOFFSETTO:-0400
TZNAME:EDT
DTSTART:20260308T070000
END:DAYLIGHT
BEGIN:STANDARD
TZOFFSETFROM:-0400
TZOFFSETTO:-0500
TZNAME:EST
DTSTART:20261101T060000
END:STANDARD
END:VTIMEZONE
BEGIN:VEVENT
DTSTART;TZID=America/New_York:20250213T180000
DTEND;TZID=America/New_York:20250213T230000
DTSTAMP:20260421T105932
CREATED:20241209T145737Z
LAST-MODIFIED:20241209T145737Z
UID:2648-1739469600-1739487600@djmixandgo.com
SUMMARY:Murder Mystery Pride Party
DESCRIPTION:Murder Mystery Party\nThursday\, February 13\, 2025\n6:00 PM 11:00 PM\nThe Free Center\n\nJoin us for an unforgettable evening at the Valentine’s Day Murder Mystery Extravaganza\, proudly sponsored by the Middletown\, CT LGBTQIA+ Commission and presented by Trippy Fish Media. On February 13th\, The New Free Center will transform into the mysterious town of Amorville\, setting the stage for an evening filled with intrigue\, suspense\, and thrilling entertainment!\n\nEvent Highlights:\n\nFree Admission\nComplimentary Food\nOne Free Drink Ticket (for guests 21+)\nOPEN BAR\nCostumes Highly Encouraged\nPerfect for Both Singles and Couples\n\nEvent Synopsis:\nA decade ago\, Hanna and Harry Heart were the beloved sweethearts of Amorville. Today\, they remain the embodiment of true love\, hosting their annual Valentine’s Day soiree at Mio Amore Cafe. As old high school friends gather to reminisce\, the night takes a turn with brewing scandals and old grudges threatening to unravel the evening. Will hidden secrets turn this dreamy celebration into a true crime scene?\n\nSpecial Note:\nUpon registration\, you’ll receive your character for the night. Embrace your role and come dressed to impress in a costume that brings your character to life!\n\nRegistration opens on January 13th.
URL:https://djmixandgo.com/event/murder-mystery-pride-party/
LOCATION:Free Center Middletown\, 725 Main Street\, Middletown\, CT\, 06457\, United States
ATTACH;FMTTYPE=image/png:https://djmixandgo.com/wp-content/uploads/2024/12/20241204_113707_0000.png
END:VEVENT
BEGIN:VEVENT
DTSTART;TZID=America/New_York:20241231T190000
DTEND;TZID=America/New_York:20250101T020000
DTSTAMP:20260421T105932
CREATED:20241228T105052Z
LAST-MODIFIED:20241228T105052Z
UID:3367-1735671600-1735696800@djmixandgo.com
SUMMARY: NEW YEAR'S EVE SOPHISTICATION:  BEST DRESSED CONTEST 2025! 
DESCRIPTION: NEW YEAR’S EVE SOPHISTICATION: SONG & DANCE \nA Glamorous 21+ Celebration at Relish 670\n\n December 31st\, 2024 7PM Relish 670 Restaurant & Cook House\n\nRING IN 2025 WITH STYLE!\n\nYOUR ELEGANT EVENING INCLUDES:• Southern Style Buffet• Champagne Toast at Midnight• Professional Karaoke Experience• Dance Floor• Drink Specials All Night• Full Menu Also Available\n\n$50 per person includes:•Southern Style Buffet• Champagne Toast• Entertainment• Party Favors\n\n\n BEST DRESSED CONTEST 2025! \nDress to Impress and Win Big this New Year’s Eve at Relish 670!\n\nCATEGORIES: Most Sophisticated Ensemble Best Couple’s Coordination Most Creative Black-Tie Look\nGRAND PRIZE:• Dinner for Two at Relish 670 ($100 value)• VIP Treatment at your next Mix & Go event• Exclusive photo shoot opportunity\nRUNNER-UP PRIZES:• Special drink vouchers• Priority song selection• Surprise gifts\n\nHOW TO ENTER:1. Arrive in your most glamorous attire2. Get your photo taken by Mixmaaster Cayes The Travel Guy3. Strut your stuff on the dance floor4. Winners announced before midnight!\n\nJUDGING CRITERIA:• Style & Sophistication• Creativity• Overall Presentation• New Year’s Spirit\n\nDon your most sophisticated attire for a night of glamour\, music\, and celebration!\n\n*Contest entry included with your NYE ticket*Must be present at midnight for prize collection
URL:https://djmixandgo.com/event/new-years-eve-sophistication-best-dressed-contest-2025/
LOCATION:Relish 670 Resurant & Cookhouse\, 670 Newfield Street\, Middletown\, 06457\, United States
ATTACH;FMTTYPE=image/jpeg:https://djmixandgo.com/wp-content/uploads/2024/12/image-18.jpg
END:VEVENT
BEGIN:VEVENT
DTSTART;TZID=America/New_York:20241231T110000
DTEND;TZID=America/New_York:20241231T160000
DTSTAMP:20260421T105932
CREATED:20241228T105312Z
LAST-MODIFIED:20241228T110559Z
UID:3372-1735642800-1735660800@djmixandgo.com
SUMMARY:Relish NEW YEAR'S AT NOON: FAMILY CELEBRATION! 🎊
DESCRIPTION:Join us for Middletown’s most exciting family-friendly New Year’s party! \n  \n🗓️ December 31st\, 2024 \n⏰ Doors Open: 11:00 AM \n🎈 Ball Drop: 12:00 PM \n🎤 Karaoke Party: 12:00 PM – 4:00 PM \n📍 Relish 670  \n  \nSTART A NEW FAMILY TRADITION!  \nRing in 2025 with all the excitement of midnight at a family-friendly hour! \n  \nINCLUDED IN THIS FREE EVENT: \n\n Complimentary Pizza\n Professional Karaoke Setup\n 8 Microphones for Group Fun\n Dance Floor\n Party Favors\n Photo Opportunities\n Special Surprises!\n\n  \nPerfect for: \n\n Families with young children\n Parent groups\n Kids who can’t stay up until midnight\n Anyone wanting to celebrate early!\n\n  \nMAKE MEMORIES TOGETHER: \n\n Sing your favorite songs\n Dance with new friends\n Enjoy delicious food\n Countdown to “midnight” at noon\n Create new traditions\n\n  \nSpace is limited! RSVP to secure your family’s spot!
URL:https://djmixandgo.com/event/%f0%9f%8e%89-new-years-at-noon-family-celebration-%f0%9f%8e%8a/
LOCATION:Relish 670 Resurant & Cookhouse\, 670 Newfield Street\, Middletown\, 06457\, United States
ATTACH;FMTTYPE=image/jpeg:https://djmixandgo.com/wp-content/uploads/2024/12/image-15.jpg
END:VEVENT
BEGIN:VEVENT
DTSTART;TZID=America/New_York:20241228T113000
DTEND;TZID=America/New_York:20241228T123000
DTSTAMP:20260421T105932
CREATED:20241202T153154Z
LAST-MODIFIED:20241228T110513Z
UID:1694-1735385400-1735389000@djmixandgo.com
SUMMARY:Russell Library New Years at Noon - Family Dance Party
DESCRIPTION:🎊 Ring in 2025 Early with Mix Master Cayes The Travel Guy! 🎊 \nWho says you need midnight to celebrate? Join us for an epic family-friendly New Year’s celebration where we bring Times Square energy at noon! Back for our 3rd year\, Mix Master Cayes The Travel Guy (formally known as Mx. Chalk) returns to Russell Library for this beloved tradition! \n✨ EVENT HIGHLIGHTS:\n• Interactive DJ Dance Party with Mix Master Cayes The Travel Guy\n• Special Countdown Experience\n• Library Ball Drop at Noon\n• Family-Friendly Music Mix\n• All Ages Welcome! \n👨‍👩‍👧‍👦 PERFECT FOR:\n• Families with young children\n• Early birds who love to party\n• Anyone seeking daytime celebration\n• Dance enthusiasts of all ages \n⏰ TIME SCHEDULE:\n11:30 AM – Party Starts\n12:00 PM – New Year’s Countdown & Ball Drop\n12:30 PM – Celebration Ends \n📝 REGISTRATION:\n• 71 spots available\n• Pre-registration suggested\n• Updates sent to registered participants\n• Free event \nℹ️ ADDITIONAL INFO:\n• Hosted by Russell Library\n• Presented by Mix & Go\n• Family-friendly environment\n• Accessible venue \nJoin Mix Master Cayes The Travel Guy for our 3rd annual daytime New Year’s celebration! Let’s dance\, countdown\, and celebrate together! 🎉 \nPresented by Mix & Go – Where Music Moves You & Travel Transforms You! 🎵✈️
URL:https://djmixandgo.com/event/new-years-at-noon-family-dance-party/
LOCATION:The Russell Library\, 123 Broad St\, Middletown\, CT\, 06457\, United States
ATTACH;FMTTYPE=image/jpeg:https://djmixandgo.com/wp-content/uploads/2024/12/image-15.jpg
ORGANIZER;CN="Shannon Wild":MAILTO:swild@russelllibrary.org
END:VEVENT
BEGIN:VEVENT
DTSTART;TZID=America/New_York:20241211T180000
DTEND;TZID=America/New_York:20241211T200000
DTSTAMP:20260421T105932
CREATED:20241209T134325Z
LAST-MODIFIED:20241209T134442Z
UID:2638-1733940000-1733947200@djmixandgo.com
SUMMARY:Winter Community Dinner
DESCRIPTION:Join Middletown Pride for warmth\, friendship\, and food at our Winter Community Dinner. This event will feature a full meal and the vibrant musical accompaniment of Mixmaster Cayes\, The Travel Guy\, who will bring his unique beats to enhance the evening’s atmosphere. The dinner is free\, but we request you RSVP using the link: https://middletownct.gov/FormCenter/LGBTQIA-Commission-20/Middletown-Pride-Winter-Community-Dinner-227 \nWednesday\, December 11\, 2024\n6:00 PM – 8:00 PM\nPerk on Main Street (map) \n  \n 
URL:https://djmixandgo.com/event/winter-community-dinner/
LOCATION:Perk on Main MIddletow\, CT\, 386 Main Street\, Middletown\, CT\, 06457\, United States
ATTACH;FMTTYPE=image/png:https://djmixandgo.com/wp-content/uploads/2024/12/winter-community.png
END:VEVENT
END:VCALENDAR